View In:
ArcGIS JavaScript
ArcGIS Online Map Viewer
ArcGIS Earth
Service Description: True Ortho
Name: Hosted/Goldsberry_St_Imagery_True_Ortho
Description:
Single Fused Map Cache: false
Extent:
XMin: 4061803.080545838
YMin: 1.0585665788670465E7
XMax: 4062427.399321015
YMax: 1.0586233351193354E7
Spatial Reference: 0
(0)
LatestVCSWkid(0)
Initial Extent:
XMin: 4061803.080545838
YMin: 1.0585665788670465E7
XMax: 4062427.399321015
YMax: 1.0586233351193354E7
Spatial Reference: 0
(0)
LatestVCSWkid(0)
Full Extent:
XMin: 4061803.080545838
YMin: 1.0585665788670465E7
XMax: 4062427.399321015
YMax: 1.0586233351193354E7
Spatial Reference: 0
(0)
LatestVCSWkid(0)
Pixel Size X: 0.05675625228881836
Pixel Size Y: 0.05675625228881836
Band Count: 3
Pixel Type: U8
RasterFunction Infos: {"rasterFunctionInfos": [{
"name": "None",
"description": "",
"help": ""
}]}
Mensuration Capabilities: Basic
Inspection Capabilities:
Has Histograms: false
Has Colormap: false
Has Multi Dimensions : false
Rendering Rule:
Min Scale: 0
Max Scale: 0
Copyright Text:
Service Data Type: esriImageServiceDataTypeRGB
Min Values: 1, 1, 1
Max Values: 254, 254, 254
Mean Values: 129.55019075102, 129.25817183601, 103.59365803309
Standard Deviation Values: 50.176736786958, 45.298742463023, 45.444612427367
Object ID Field:
Fields:
None
Default Mosaic Method: Center
Allowed Mosaic Methods:
SortField:
SortValue: null
Mosaic Operator: First
Default Compression Quality: 75
Default Resampling Method: Bilinear
Max Record Count: null
Max Image Height: 4100
Max Image Width: 15000
Max Download Image Count: null
Max Mosaic Image Count: null
Allow Raster Function: true
Allow Copy: true
Allow Analysis: true
Allow Compute TiePoints: false
Supports Statistics: false
Supports Advanced Queries: false
Use StandardizedQueries: true
Raster Type Infos:
Name: Raster Dataset
Description: Supports all ArcGIS Raster Datasets
Help:
Has Raster Attribute Table: false
Edit Fields Info: null
Ownership Based AccessControl For Rasters: null
Child Resources:
Info
Statistics
Key Properties
Legend
Raster Function Infos
Supported Operations:
Export Image
Identify
Measure
Compute Histograms
Compute Statistics Histograms
Get Samples
Compute Class Statistics
Query Boundary
Compute Pixel Location
Compute Angles
Validate
Project